Workbook

Sheet Explanation and FAQ
A1: Country Risk Premiums
A2: To estimate the equity risk premium for a country, I start with a mature market premium and add an additional country risk premium, based upon the risk of the country in question.
A3: Use the look up table in the next worksheet, to look up the statistics for an individual country or region.
A5: Step 1: Estimating mature market risk premium
A6: To estimate the mature market risk premium, I compute the implied equity risk premium for the S&P 500. To see the latest estimate for this number, go to my website and you can download the excel spreadsheet containing the implied premium
A7: Link to site: | B7: http://www.damodaran.com
A8: Historical monthly ERP: | B8: https://pages.stern.nyu.edu/~adamodar/pc/implprem/ERPbymonth.xls
A10: Step 2: Estimate the default spread for the country in question. I offer two choices, one based upon the local currency sovereign rating for the country from Moody's and the other is the CDS spread for the country (if one exists)
A11: Moody's ratings: | B11: http://www.moodys.com | D11: (You will have to register, but it is free. Look under sovereign ratings)
A12: Ratings to spreads: | B12: Based upon my estimates of typical spreads for each ratings class. I compute these by averaging CDS spreads and sovereign US$ bond spreads by ratings class, at the start of every year.
A13: CDS spreads: | B13: Bloomberg
A14: If you cannot find a country on this list, it is because that country does not have a sovereign rating or a sovereign CDS spread. Try the PRS worksheet in this spreadsheet for an alternate estimate.
A16: Step 3: Convert the default spread into a country risk premium
A17: With sovereign ratings default spreads, you have two choices:
A18: Choice 1: Use the default spread as the measure of the additional country risk premium. To make this choice, go into the ERP worksheet and set cell E5 to 1.00.
A19: Choice 2: Scale the default spread up to reflect the higher risk of equity in the market, relative to the default spread. I used the ratio of the S&P Emerging Market Equity Index std deviation to the iShares Emerging Market Bond Index standard deviation
A20: With CDS spreads, I compute the base number in two steps
A21: Substep 1: Since the base equity premium is computed for the US, and the US has a CDS spread, I subtracted out the US CDS spread from the CDS for other markets.
A22: For simplicity (and since it does not make a big difference), I assume that any country that has a CDS spread lower than the US will have a zero country risk premium and end up with a total equity risk premium equal to the US.
A23: Substep 2: I apply the scaling factor that you chose for the default spreads to this number to get a country risk premium. The default scaling is set at the my most recent year's estimate, but you can change it to 1, if you would
A24: prefer not to scale the default spread.
A26: Step 4: Compute a total equity risk premium
A27: Add the mature market premium from step 1 to the country risk premium from step 3 to get a total equity risk premium.
... A30: For the regional averages, I use a simple average of the total and country risk premiums by region
A31: For the weighted averages, I use the World Bank GDP estimates from the most recent year. | I31: https://data.worldbank.org/indicator/NY.GDP.MKTP.CD
A33: If you are interested in a fuller explanation of these concepts, try these references:
A34: My paper on equity risk premiums: | E34: https://papers.ssrn.com/sol3/papers.cfm?abstract_id=4398884
A35: My paper on country risk premiums: | E35: https://papers.ssrn.com/sol3/papers.cfm?abstract_id=4161010
A36: Watch my lectures on country risk premiums: | E36: https://www.youtube.com/watch?v=aIRPvY2SQ94
E37: https://www.youtube.com/watch?v=D3IGn6tH03c

Sheet Summary of Most Recent Update
B1: Update Notes
A2: Mature Marlet Premium | B2: The implied equity risk premium for the S&P 500, which is my base premium dropped to 5% in this update. You can review the calcualtion in this spreadsheet. (https://pages.stern.nyu.edu/~adamodar/pc/implprem/ERPJuly23.xlsx)
A3: Sovereign Ratings | B3: The ratings (Moody's and S&P) have been updated to reflect the most recent ratings. (See Ratings Worksheet)
A4: Default Spreads | B4: The default spreads have dropped as some of the market fears from the start of 2023 have subsdied. The change in default spredas is computed by looking at percentage changes in sovereign CDS spreads over the period>. (See Default Spreads for Ratings worksheet)
A5: Relative Equity Market Volatility | B5: The biggest change in this update is in this measure. For the last few years, I have used the coefficient of variation in emerging market bond yields and the standard deviation of returns in emerging market equities. In this iteration, I have replaced the former with an emerging market sovereign bond ETF returns, thus creating more consistency in the calcuatlions. Whiel this change does not create a substantive shift in the numbers in this iteration, I think it is a more solid basis for computing this value in future ones.
A6: Bottom Line | B6: The combination of a lower base mature market premium and lower sovereign default spreads has led to lower equity risk premiums across the board, a climb down from historically high numbers at the start of the year.

Sheet Country Lookup
A1: To look up the equity risk premium for a country, use this worksheet
A2: Country | B2: Angola | D2: If you cannot find a country on this list, it is because that country does not have a sovereign rating
D3: or a sovereign CDS spread. Try the PRS worksheet in this spreadsheet for an alternate estimate.
A4: Moody's sovereign rating | B4: =VLOOKUP(B2,'Ratings worksheet'!$A$2:$C$158,3, FALSE) -> B3 | C4: Local currency
A5: S&P sovereign rating | B5: =VLOOKUP(B2,'Ratings worksheet'!$A$2:$C$158,2, FALSE) -> B- | C5: Local currency
A6: CDS spread | B6: =VLOOKUP(B2,'10-year CDS Spreads'!A2:D158,3, FALSE) -> 0.1047
A7: Excess CDS spread (over US CDS) | B7: =IF(B6="NA","NA",VLOOKUP(B2,'ERPs by country'!A8:I164,9,FALSE)/'ERPs by country'!E5) -> 0.1004
A9: Country Default Spread (based on rating) | B9: =VLOOKUP(B2,'ERPs by country'!A8:I164,4,FALSE) -> 0.069527972
A10: Country Risk Premium (Rating) | B10: =VLOOKUP(B2,'ERPs by country'!A8:I164,6,FALSE) -> 0.098612566
A11: Equity Risk Premium (Rating) | B11: =VLOOKUP(B2,'ERPs by country'!A8:I164,5,FALSE) -> 0.14861257
A13: Country Risk Premium (CDS) | B13: =VLOOKUP(B2,'ERPs by country'!A8:I164,9,FALSE) -> 0.14239883
A14: Equity Risk Premium (CDS) | B14: =VLOOKUP(B2,'ERPs by country'!A8:I164,8,FALSE) -> 0.19239883
A16: To look up the equity risk premium for a region, use this worksheet
A17: Region | B17: Western Europe
A19: Country Risk Premium (simple average)) | B19: =VLOOKUP(B17,'Regional Simple Averages'!$A$5:$E$13,3,FALSE) -> 0.015568961
A20: Total Equity Risk Premium (simple average) | B20: =VLOOKUP(B17,'Regional Simple Averages'!$A$5:$E$13,4,FALSE) -> 0.065568961
A22: Country Risk Premium (GDP weighted) | B22: =VLOOKUP(B17,'Regional Weighted Averages'!A171:C179,3,FALSE) -> 0.013663665
A23: Total Equity Risk Premium (GDP weighted) | B23: =VLOOKUP(B17,'Regional Weighted Averages'!A171:C179,2,FALSE) -> 0.063663665
A25: To construct your own regional ERP, use the data on GDP and ERP for countries in the Regional Weighted Averages Worksheet
A27: For countries not on the list above, try this frontier market list
A28: Country | B28: Zimbabwe
A30: PRS Score | B30: =VLOOKUP(B28,'PRS Worksheet'!A161:E181,2,FALSE) -> 61.25
A31: ERP based on PRS Score | B31: =VLOOKUP(B28,'PRS Worksheet'!A161:E181,5,FALSE) -> 0.16377001

Sheet ERPs by country
A1: Country and Equity Risk Premiums
A2: Date of update: | B2: 43646
A3: Enter the current risk premium for a mature equity market | E3: 0.05
A4: Do you want to adjust the country default spread for the additional volatility of the equity market to get to a country premium? | E4: Yes
A5: If yes, enter the multiplier to use on the default spread (See worksheet for volatility numbers for selected emerging markets) | E5: ='Relative Equity Volatility'!D7 -> 1.418315
A7: Country | B7: Africa | C7: Moody's rating | D7: Rating-based Default Spread | E7: Total Equity Risk Premium | F7: Country Risk Premium | G7: Sovereign CDS, net of US | H7: Total Equity Risk Premium2 | I7: Country Risk Premium3 | J7: Has to be sorted in ascending order
A8: ='Sovereign Ratings (Moody''s,S&P)'!A2 -> Abu Dhabi | B8: =VLOOKUP(A8,'Regional lookup table'!$A$2:$B$161,2) -> Middle East | C8: ='Sovereign Ratings (Moody''s,S&P)'!C2 -> Aa2 | D8: =VLOOKUP(C8,$J$9:$K$31,2,FALSE)/10000 -> 0.0052806055 | E8: =$E$3+F8 -> 0.057489562 | F8: =IF($E$4="Yes",D8*$E$5,D8) -> 0.007489562 | G8: =VLOOKUP(A8,'10-year CDS Spreads'!$A$2:$D$157,4) -> 0.0027 | H8: =IF(I8="NA","NA",$E$3+I8) -> 0.053829451 | I8: =IF(G8="NA","NA",G8*$E$5) -> 0.0038294505 | J8: Rating | K8: Default spread in basis points
A9: ='Sovereign Ratings (Moody''s,S&P)'!A3 -> Albania | B9: =VLOOKUP(A9,'Regional lookup table'!$A$3:$B$161,2) -> Eastern Europe & Russia | C9: ='Sovereign Ratings (Moody''s,S&P)'!C3 -> B1 | D9: =VLOOKUP(C9,$J$9:$K$31,2,FALSE)/10000 -> 0.048154093 | E9: =$E$3+F9 -> 0.11829767 | F9: =IF($E$4="Yes",D9*$E$5,D9) -> 0.068297673 | G9: =VLOOKUP(A9,'10-year CDS Spreads'!$A$2:$D$157,4) -> NA | H9: =IF(I9="NA","NA",$E$3+I9) -> NA | I9: =IF(G9="NA","NA",G9*$E$5) -> NA | J9: A1 | K9: =C189 -> 75.437221
A10: ='Sovereign Ratings (Moody''s,S&P)'!A4 -> Andorra (Principality of) | B10: =VLOOKUP(A10,'Regional lookup table'!$A$3:$B$161,2) -> Western Europe | C10: ='Sovereign Ratings (Moody''s,S&P)'!C4 -> Baa2 | D10: =VLOOKUP(C10,$J$9:$K$31,2,FALSE)/10000 -> 0.02036805 | E10: =$E$3+F10 -> 0.078888311 | F10: =IF($E$4="Yes",D10*$E$5,D10) -> 0.028888311 | G10: =VLOOKUP(A10,'10-year CDS Spreads'!$A$2:$D$157,4) -> NA | H10: =IF(I10="NA","NA",$E$3+I10) -> NA | I10: =IF(G10="NA","NA",G10*$E$5) -> NA | J10: A2 | K10: =C190 -> 90.524666
A11: ='Sovereign Ratings (Moody''s,S&P)'!A5 -> Angola | B11: =VLOOKUP(A11,'Regional lookup table'!$A$3:$B$161,2) -> Africa | C11: ='Sovereign Ratings (Moody''s,S&P)'!C5 -> B3 | D11: =VLOOKUP(C11,$J$9:$K$31,2,FALSE)/10000 -> 0.069527972 | E11: =$E$3+F11 -> 0.14861257 | F11: =IF($E$4="Yes",D11*$E$5,D11) -> 0.098612566 | G11: =VLOOKUP(A11,'10-year CDS Spreads'!$A$2:$D$157,4) -> 0.1004 | H11: =IF(I11="NA","NA",$E$3+I11) -> 0.19239883 | I11: =IF(G11="NA","NA",G11*$E$5) -> 0.14239883 | J11: A3 | K11: =C191 -> 128.24328
A12: ='Sovereign Ratings (Moody''s,S&P)'!A6 -> Argentina | B12: =VLOOKUP(A12,'Regional lookup table'!$A$3:$B$161,2) -> Central and South America | C12: ='Sovereign Ratings (Moody''s,S&P)'!C6 -> Ca | D12: =VLOOKUP(C12,$J$9:$K$31,2,FALSE)/10000 -> 0.12836901 | E12: =$E$3+F12 -> 0.23206769 | F12: =IF($E$4="Yes",D12*$E$5,D12) -> 0.18206769 | G12: =VLOOKUP(A12,'10-year CDS Spreads'!$A$2:$D$157,4) -> NA | H12: =IF(I12="NA","NA",$E$3+I12) -> NA | I12: =IF(G12="NA","NA",G12*$E$5) -> NA | J12: Aa1 | K12: =C192 -> 42.747759
A13: ='Sovereign Ratings (Moody''s,S&P)'!A7 -> Armenia | B13: =VLOOKUP(A13,'Regional lookup table'!$A$3:$B$161,2) -> Eastern Europe & Russia | C13: ='Sovereign Ratings (Moody''s,S&P)'!C7 -> Ba3 | D13: =VLOOKUP(C13,$J$9:$K$31,2,FALSE)/10000 -> 0.038472983 | E13: =$E$3+F13 -> 0.10456681 | F13: =IF($E$4="Yes",D13*$E$5,D13) -> 0.054566809 | G13: =VLOOKUP(A13,'10-year CDS Spreads'!$A$2:$D$157,4) -> NA | H13: =IF(I13="NA","NA",$E$3+I13) -> NA | I13: =IF(G13="NA","NA",G13*$E$5) -> NA | J13: Aa2 | K13: =C193 -> 52.806055
A14: ='Sovereign Ratings (Moody''s,S&P)'!A8 -> Aruba | B14: =VLOOKUP(A14,'Regional lookup table'!$A$3:$B$161,2) -> Caribbean | C14: ='Sovereign Ratings (Moody''s,S&P)'!C8 -> Baa2 | D14: =VLOOKUP(C14,$J$9:$K$31,2,FALSE)/10000 -> 0.02036805 | E14: =$E$3+F14 -> 0.078888311 | F14: =IF($E$4="Yes",D14*$E$5,D14) -> 0.028888311 | G14: =VLOOKUP(A14,'10-year CDS Spreads'!$A$2:$D$157,4) -> NA | H14: =IF(I14="NA","NA",$E$3+I14) -> NA | I14: =IF(G14="NA","NA",G14*$E$5) -> NA | J14: Aa3 | K14: =C194 -> 64.121638
A15: ='Sovereign Ratings (Moody''s,S&P)'!A9 -> Australia | B15: =VLOOKUP(A15,'Regional lookup table'!$A$3:$B$161,2) -> Australia & New Zealand | C15: ='Sovereign Ratings (Moody''s,S&P)'!C9 -> Aaa | D15: =VLOOKUP(C15,$J$9:$K$31,2,FALSE)/10000 -> 0 | E15: =$E$3+F15 -> 0.05 | F15: =IF($E$4="Yes",D15*$E$5,D15) -> 0 | G15: =VLOOKUP(A15,'10-year CDS Spreads'!$A$2:$D$157,4) -> 0 | H15: =IF(I15="NA","NA",$E$3+I15) -> 0.05 | I15: =IF(G15="NA","NA",G15*$E$5) -> 0 | J15: Aaa | K15: =C195 -> 0
A16: ='Sovereign Ratings (Moody''s,S&P)'!A10 -> Austria | B16: =VLOOKUP(A16,'Regional lookup table'!$A$3:$B$161,2) -> Western Europe | C16: ='Sovereign Ratings (Moody''s,S&P)'!C10 -> Aa1 | D16: =VLOOKUP(C16,$J$9:$K$31,2,FALSE)/10000 -> 0.0042747759 | E16: =$E$3+F16 -> 0.056062979 | F16: =IF($E$4="Yes",D16*$E$5,D16) -> 0.0060629788 | G16: =VLOOKUP(A16,'10-year CDS Spreads'!$A$2:$D$157,4) -> 0 | H16: =IF(I16="NA","NA",$E$3+I16) -> 0.05 | I16: =IF(G16="NA","NA",G16*$E$5) -> 0 | J16: B1 | K16: =C196 -> 481.54093
A17: ='Sovereign Ratings (Moody''s,S&P)'!A11 -> Azerbaijan | B17: =VLOOKUP(A17,'Regional lookup table'!$A$3:$B$161,2) -> Eastern Europe & Russia | C17: ='Sovereign Ratings (Moody''s,S&P)'!C11 -> Ba1 | D17: =VLOOKUP(C17,$J$9:$K$31,2,FALSE)/10000 -> 0.026780214 | E17: =$E$3+F17 -> 0.087982779 | F17: =IF($E$4="Yes",D17*$E$5,D17) -> 0.037982779 | G17: =VLOOKUP(A17,'10-year CDS Spreads'!$A$2:$D$157,4) -> NA | H17: =IF(I17="NA","NA",$E$3+I17) -> NA | I17: =IF(G17="NA","NA",G17*$E$5) -> NA | J17: B2 | K17: =C197 -> 588.41033
A18: ='Sovereign Ratings (Moody''s,S&P)'!A12 -> Bahamas | B18: =VLOOKUP(A18,'Regional lookup table'!$A$3:$B$161,2) -> Caribbean | C18: ='Sovereign Ratings (Moody''s,S&P)'!C12 -> B1 | D18: =VLOOKUP(C18,$J$9:$K$31,2,FALSE)/10000 -> 0.048154093 | E18: =$E$3+F18 -> 0.11829767 | F18: =IF($E$4="Yes",D18*$E$5,D18) -> 0.068297673 | G18: =VLOOKUP(A18,'10-year CDS Spreads'!$A$2:$D$157,4) -> NA | H18: =IF(I18="NA","NA",$E$3+I18) -> NA | I18: =IF(G18="NA","NA",G18*$E$5) -> NA | J18: B3 | K18: =C198 -> 695.27972
A19: ='Sovereign Ratings (Moody''s,S&P)'!A13 -> Bahrain | B19: =VLOOKUP(A19,'Regional lookup table'!$A$3:$B$161,2) -> Middle East | C19: ='Sovereign Ratings (Moody''s,S&P)'!C13 -> B2 | D19: =VLOOKUP(C19,$J$9:$K$31,2,FALSE)/10000 -> 0.058841033 | E19: =$E$3+F19 -> 0.13345512 | F19: =IF($E$4="Yes",D19*$E$5,D19) -> 0.083455119 | G19: =VLOOKUP(A19,'10-year CDS Spreads'!$A$2:$D$157,4) -> 0.0273 | H19: =IF(I19="NA","NA",$E$3+I19) -> 0.08872 | I19: =IF(G19="NA","NA",G19*$E$5) -> 0.03872 | J19: Ba1 | K19: =C199 -> 267.80214
A20: ='Sovereign Ratings (Moody''s,S&P)'!A14 -> Bangladesh | B20: =VLOOKUP(A20,'Regional lookup table'!$A$3:$B$161,2) -> Asia | C20: ='Sovereign Ratings (Moody''s,S&P)'!C14 -> B1 | D20: =VLOOKUP(C20,$J$9:$K$31,2,FALSE)/10000 -> 0.048154093 | E20: =$E$3+F20 -> 0.11829767 | F20: =IF($E$4="Yes",D20*$E$5,D20) -> 0.068297673 | G20: =VLOOKUP(A20,'10-year CDS Spreads'!$A$2:$D$157,4) -> NA | H20: =IF(I20="NA","NA",$E$3+I20) -> NA | I20: =IF(G20="NA","NA",G20*$E$5) -> NA | J20: Ba2 | K20: =C200 -> 321.86548
... A26: ='Sovereign Ratings (Moody''s,S&P)'!A20 -> Bermuda | B26: =VLOOKUP(A26,'Regional lookup table'!$A$3:$B$161,2) -> Caribbean | C26: ='Sovereign Ratings (Moody''s,S&P)'!C20 -> A2 | D26: =VLOOKUP(C26,$J$9:$K$31,2,FALSE)/10000 -> 0.0090524666 | E26: =$E$3+F26 -> 0.062839249 | F26: =IF($E$4="Yes",D26*$E$5,D26) -> 0.012839249 | G26: =VLOOKUP(A26,'10-year CDS Spreads'!$A$2:$D$157,4) -> NA | H26: =IF(I26="NA","NA",$E$3+I26) -> NA | I26: =IF(G26="NA","NA",G26*$E$5) -> NA | J26: Ca | K26: =C206 -> 1283.6901
A27: ='Sovereign Ratings (Moody''s,S&P)'!A21 -> Bolivia | B27: =VLOOKUP(A27,'Regional lookup table'!$A$3:$B$161,2) -> Central and South America | C27: ='Sovereign Ratings (Moody''s,S&P)'!C21 -> Caa1 | D27: =VLOOKUP(C27,$J$9:$K$31,2,FALSE)/10000 -> 0.080214912 | E27: =$E$3+F27 -> 0.16377001 | F27: =IF($E$4="Yes",D27*$E$5,D27) -> 0.11377001 | G27: =VLOOKUP(A27,'10-year CDS Spreads'!$A$2:$D$157,4) -> NA | H27: =IF(I27="NA","NA",$E$3+I27) -> NA | I27: =IF(G27="NA","NA",G27*$E$5) -> NA | J27: =B207 -> Caa1 | K27: =C207 -> 802.14912
A28: ='Sovereign Ratings (Moody''s,S&P)'!A22 -> Bosnia and Herzegovina | B28: =VLOOKUP(A28,'Regional lookup table'!$A$3:$B$161,2) -> Eastern Europe & Russia | C28: ='Sovereign Ratings (Moody''s,S&P)'!C22 -> B3 | D28: =VLOOKUP(C28,$J$9:$K$31,2,FALSE)/10000 -> 0.069527972 | E28: =$E$3+F28 -> 0.14861257 | F28: =IF($E$4="Yes",D28*$E$5,D28) -> 0.098612566 | G28: =VLOOKUP(A28,'10-year CDS Spreads'!$A$2:$D$157,4) -> NA | H28: =IF(I28="NA","NA",$E$3+I28) -> NA | I28: =IF(G28="NA","NA",G28*$E$5) -> NA | J28: =B208 -> Caa2 | K28: =C208 -> 963.08186
A29: ='Sovereign Ratings (Moody''s,S&P)'!A23 -> Botswana | B29: =VLOOKUP(A29,'Regional lookup table'!$A$3:$B$161,2) -> Africa | C29: ='Sovereign Ratings (Moody''s,S&P)'!C23 -> A3 | D29: =VLOOKUP(C29,$J$9:$K$31,2,FALSE)/10000 -> 0.012824328 | E29: =$E$3+F29 -> 0.068188936 | F29: =IF($E$4="Yes",D29*$E$5,D29) -> 0.018188936 | G29: =VLOOKUP(A29,'10-year CDS Spreads'!$A$2:$D$157,4) -> NA | H29: =IF(I29="NA","NA",$E$3+I29) -> NA | I29: =IF(G29="NA","NA",G29*$E$5) -> NA | J29: =B209 -> Caa3 | K29: =C209 -> 1069.9513
A30: ='Sovereign Ratings (Moody''s,S&P)'!A24 -> Brazil | B30: =VLOOKUP(A30,'Regional lookup table'!$A$3:$B$161,2) -> Central and South America | C30: ='Sovereign Ratings (Moody''s,S&P)'!C24 -> Ba2 | D30: =VLOOKUP(C30,$J$9:$K$31,2,FALSE)/10000 -> 0.032186548 | E30: =$E$3+F30 -> 0.095650664 | F30: =IF($E$4="Yes",D30*$E$5,D30) -> 0.045650664 | G30: =VLOOKUP(A30,'10-year CDS Spreads'!$A$2:$D$157,4) -> 0.0245 | H30: =IF(I30="NA","NA",$E$3+I30) -> 0.084748718 | I30: =IF(G30="NA","NA",G30*$E$5) -> 0.034748718 | J30: NR | K30: =C210 -> NA
A31: ='Sovereign Ratings (Moody''s,S&P)'!A25 -> Bulgaria | B31: =VLOOKUP(A31,'Regional lookup table'!$A$3:$B$161,2) -> Eastern Europe & Russia | C31: ='Sovereign Ratings (Moody''s,S&P)'!C25 -> Baa1 | D31: =VLOOKUP(C31,$J$9:$K$31,2,FALSE)/10000 -> 0.017099104 | E31: =$E$3+F31 -> 0.074251915 | F31: =IF($E$4="Yes",D31*$E$5,D31) -> 0.024251915 | G31: =VLOOKUP(A31,'10-year CDS Spreads'!$A$2:$D$157,4) -> 0.0097 | H31: =IF(I31="NA","NA",$E$3+I31) -> 0.063757656 | I31: =IF(G31="NA","NA",G31*$E$5) -> 0.013757656
A32: ='Sovereign Ratings (Moody''s,S&P)'!A26 -> Burkina Faso | B32: =VLOOKUP(A32,'Regional lookup table'!$A$3:$B$161,2) -> Africa | C32: ='Sovereign Ratings (Moody''s,S&P)'!C26 -> Caa1 | D32: =VLOOKUP(C32,$J$9:$K$31,2,FALSE)/10000 -> 0.080214912 | E32: =$E$3+F32 -> 0.16377001 | F32: =IF($E$4="Yes",D32*$E$5,D32) -> 0.11377001 | G32: =VLOOKUP(A32,'10-year CDS Spreads'!$A$2:$D$157,4) -> NA | H32: =IF(I32="NA","NA",$E$3+I32) -> NA | I32: =IF(G32="NA","NA",G32*$E$5) -> NA
A33: ='Sovereign Ratings (Moody''s,S&P)'!A27 -> Cambodia | B33: =VLOOKUP(A33,'Regional lookup table'!$A$3:$B$161,2) -> Asia | C33: ='Sovereign Ratings (Moody''s,S&P)'!C27 -> B2 | D33: =VLOOKUP(C33,$J$9:$K$31,2,FALSE)/10000 -> 0.058841033 | E33: =$E$3+F33 -> 0.13345512 | F33: =IF($E$4="Yes",D33*$E$5,D33) -> 0.083455119 | G33: =VLOOKUP(A33,'10-year CDS Spreads'!$A$2:$D$157,4) -> NA | H33: =IF(I33="NA","NA",$E$3+I33) -> NA | I33: =IF(G33="NA","NA",G33*$E$5) -> NA
A34: ='Sovereign Ratings (Moody''s,S&P)'!A28 -> Cameroon | B34: =VLOOKUP(A34,'Regional lookup table'!$A$3:$B$161,2) -> Africa | C34: ='Sovereign Ratings (Moody''s,S&P)'!C28 -> B2 | D34: =VLOOKUP(C34,$J$9:$K$31,2,FALSE)/10000 -> 0.058841033 | E34: =$E$3+F34 -> 0.13345512 | F34: =IF($E$4="Yes",D34*$E$5,D34) -> 0.083455119 | G34: =VLOOKUP(A34,'10-year CDS Spreads'!$A$2:$D$157,4) -> 0.0602 | H34: =IF(I34="NA","NA",$E$3+I34) -> 0.13538256 | I34: =IF(G34="NA","NA",G34*$E$5) -> 0.085382563
A35: ='Sovereign Ratings (Moody''s,S&P)'!A29 -> Canada | B35: =VLOOKUP(A35,'Regional lookup table'!$A$3:$B$161,2) -> North America | C35: ='Sovereign Ratings (Moody''s,S&P)'!C29 -> Aaa | D35: =VLOOKUP(C35,$J$9:$K$31,2,FALSE)/10000 -> 0 | E35: =$E$3+F35 -> 0.05 | F35: =IF($E$4="Yes",D35*$E$5,D35) -> 0 | G35: =VLOOKUP(A35,'10-year CDS Spreads'!$A$2:$D$157,4) -> 0 | H35: =IF(I35="NA","NA",$E$3+I35) -> 0.05 | I35: =IF(G35="NA","NA",G35*$E$5) -> 0
A36: ='Sovereign Ratings (Moody''s,S&P)'!A30 -> Cape Verde | B36: =VLOOKUP(A36,'Regional lookup table'!$A$3:$B$161,2) -> Africa | C36: ='Sovereign Ratings (Moody''s,S&P)'!C30 -> B3 | D36: =VLOOKUP(C36,$J$9:$K$31,2,FALSE)/10000 -> 0.069527972 | E36: =$E$3+F36 -> 0.14861257 | F36: =IF($E$4="Yes",D36*$E$5,D36) -> 0.098612566 | G36: =VLOOKUP(A36,'10-year CDS Spreads'!$A$2:$D$157,4) -> NA | H36: =IF(I36="NA","NA",$E$3+I36) -> NA | I36: =IF(G36="NA","NA",G36*$E$5) -> NA
A37: ='Sovereign Ratings (Moody''s,S&P)'!A31 -> Cayman Islands | B37: =VLOOKUP(A37,'Regional lookup table'!$A$3:$B$161,2) -> Caribbean | C37: ='Sovereign Ratings (Moody''s,S&P)'!C31 -> Aa3 | D37: =VLOOKUP(C37,$J$9:$K$31,2,FALSE)/10000 -> 0.0064121638 | E37: =$E$3+F37 -> 0.059094468 | F37: =IF($E$4="Yes",D37*$E$5,D37) -> 0.0090944682 | G37: =VLOOKUP(A37,'10-year CDS Spreads'!$A$2:$D$157,4) -> NA | H37: =IF(I37="NA","NA",$E$3+I37) -> NA | I37: =IF(G37="NA","NA",G37*$E$5) -> NA
A38: ='Sovereign Ratings (Moody''s,S&P)'!A32 -> Chile | B38: =VLOOKUP(A38,'Regional lookup table'!$A$3:$B$161,2) -> Central and South America | C38: ='Sovereign Ratings (Moody''s,S&P)'!C32 -> A2 | D38: =VLOOKUP(C38,$J$9:$K$31,2,FALSE)/10000 -> 0.0090524666 | E38: =$E$3+F38 -> 0.062839249 | F38: =IF($E$4="Yes",D38*$E$5,D38) -> 0.012839249 | G38: =VLOOKUP(A38,'10-year CDS Spreads'!$A$2:$D$157,4) -> 0.0104 | H38: =IF(I38="NA","NA",$E$3+I38) -> 0.064750476 | I38: =IF(G38="NA","NA",G38*$E$5) -> 0.014750476
A39: ='Sovereign Ratings (Moody''s,S&P)'!A33 -> China | B39: =VLOOKUP(A39,'Regional lookup table'!$A$3:$B$161,2) -> Asia | C39: ='Sovereign Ratings (Moody''s,S&P)'!C33 -> A1 | D39: =VLOOKUP(C39,$J$9:$K$31,2,FALSE)/10000 -> 0.0075437221 | E39: =$E$3+F39 -> 0.060699374 | F39: =IF($E$4="Yes",D39*$E$5,D39) -> 0.010699374 | G39: =VLOOKUP(A39,'10-year CDS Spreads'!$A$2:$D$157,4) -> 0.0057 | H39: =IF(I39="NA","NA",$E$3+I39) -> 0.058084396 | I39: =IF(G39="NA","NA",G39*$E$5) -> 0.0080843955
A40: ='Sovereign Ratings (Moody''s,S&P)'!A34 -> Colombia | B40: =VLOOKUP(A40,'Regional lookup table'!$A$3:$B$161,2) -> Central and South America | C40: ='Sovereign Ratings (Moody''s,S&P)'!C34 -> Baa2 | D40: =VLOOKUP(C40,$J$9:$K$31,2,FALSE)/10000 -> 0.02036805 | E40: =$E$3+F40 -> 0.078888311 | F40: =IF($E$4="Yes",D40*$E$5,D40) -> 0.028888311 | G40: =VLOOKUP(A40,'10-year CDS Spreads'!$A$2:$D$157,4) -> 0.0311 | H40: =IF(I40="NA","NA",$E$3+I40) -> 0.094109597 | I40: =IF(G40="NA","NA",G40*$E$5) -> 0.044109597
A41: ='Sovereign Ratings (Moody''s,S&P)'!A35 -> Congo (Democratic Republic of) | B41: =VLOOKUP(A41,'Regional lookup table'!$A$3:$B$161,2) -> Africa | C41: ='Sovereign Ratings (Moody''s,S&P)'!C35 -> B3 | D41: =VLOOKUP(C41,$J$9:$K$31,2,FALSE)/10000 -> 0.069527972 | E41: =$E$3+F41 -> 0.14861257 | F41: =IF($E$4="Yes",D41*$E$5,D41) -> 0.098612566 | G41: =VLOOKUP(A41,'10-year CDS Spreads'!$A$2:$D$157,4) -> NA | H41: =IF(I41="NA","NA",$E$3+I41) -> NA | I41: =IF(G41="NA","NA",G41*$E$5) -> NA
A42: ='Sovereign Ratings (Moody''s,S&P)'!A36 -> Congo (Republic of) | B42: =VLOOKUP(A42,'Regional lookup table'!$A$3:$B$161,2) -> Africa | C42: ='Sovereign Ratings (Moody''s,S&P)'!C36 -> Caa2 | D42: =VLOOKUP(C42,$J$9:$K$31,2,FALSE)/10000 -> 0.096308186 | E42: =$E$3+F42 -> 0.18659535 | F42: =IF($E$4="Yes",D42*$E$5,D42) -> 0.13659535 | G42: =VLOOKUP(A42,'10-year CDS Spreads'!$A$2:$D$157,4) -> NA | H42: =IF(I42="NA","NA",$E$3+I42) -> NA | I42: =IF(G42="NA","NA",G42*$E$5) -> NA
... A163: ='Sovereign Ratings (Moody''s,S&P)'!A157 -> Vietnam | B163: =VLOOKUP(A163,'Regional lookup table'!$A$3:$B$161,2) -> Asia | C163: ='Sovereign Ratings (Moody''s,S&P)'!C157 -> Ba2 | D163: =VLOOKUP(C163,$J$9:$K$31,2,FALSE)/10000 -> 0.032186548 | E163: =$E$3+F163 -> 0.095650664 | F163: =IF($E$4="Yes",D163*$E$5,D163) -> 0.045650664 | G163: =VLOOKUP(A163,'10-year CDS Spreads'!$A$2:$D$157,4) -> 0.013 | H163: =IF(I163="NA","NA",$E$3+I163) -> 0.068438095 | I163: =IF(G163="NA","NA",G163*$E$5) -> 0.018438095
A164: ='Sovereign Ratings (Moody''s,S&P)'!A158 -> Zambia | B164: =VLOOKUP(A164,'Regional lookup table'!$A$3:$B$161,2) -> Africa | C164: ='Sovereign Ratings (Moody''s,S&P)'!C158 -> Ca | D164: =VLOOKUP(C164,$J$9:$K$31,2,FALSE)/10000 -> 0.12836901 | E164: =$E$3+F164 -> 0.23206769 | F164: =IF($E$4="Yes",D164*$E$5,D164) -> 0.18206769 | G164: =VLOOKUP(A164,'10-year CDS Spreads'!$A$2:$D$158,4) -> NA | H164: =IF(I164="NA","NA",$E$3+I164) -> NA | I164: =IF(G164="NA","NA",G164*$E$5) -> NA
A165: Frontier Markets (no sovereign ratings)
A166: Country | B166: PRS Composite Risk Score | C166: ERP | D166: CRP | E166: Default Spread
...

Sheet Relative Equity Volatility
A1: Year | B1: Std Dev (BMI) | C1: Std Dev (JPM Sov Bond) | D1: REL VOL | J1: Estimation note: Those of you who have followed my attempts to estimate the relative equity market volatility know that I have struggled with getting a proxy for returns on emerging market sovereign bonds, and have used the coefficient of varation in yields to make that estimate. I have finally replaced that estimate with a return on an emerging market governemnt bond ETF from iShares. The standard deviations are now computed consistently for emerigng equities and emerigng government bonds. (Using the old yield coefficient of variation approach would have yielded a ratio of 1.49 in this computation.)
A2: 7/1/18- 6/30/19 | B2: =STDEV(I16:I275)*(260^0.5) -> 0.13490765 | C2: =STDEV(C16:C265)*(260^0.5) -> 0.05719235 | D2: =B2/C2 -> 2.3588408 | F2: =STDEV(C16:C265)*(260^0.5) -> 0.05719235
A3: 7/1/19-6/30/20 | B3: =STDEV(I276:I537)*(260^0.5) -> 0.21757044 | C3: =STDEV(C266:C518)*(260^0.5) -> 0.19249847 | D3: =B3/C3 -> 1.1302451
A4: 7/1/20-6/30/21 | B4: =STDEV(I538:I798)*(260^0.5) -> 0.14376612 | C4: =STDEV(C519:C770)*(260^0.5) -> 0.074065042 | D4: =B4/C4 -> 1.9410793
A5: 7/1/21-6/30/22 | B5: =STDEV(I799:I1059)*(260^0.5) -> 0.17877945 | C5: =STDEV(C771:C1022)*(260^0.5) -> 0.10721913 | D5: =B5/C5 -> 1.6674213
A6: 7/1/22-6/30/23 | B6: =STDEV(I1060:I1325)*(260^0.5) -> 0.13573693 | C6: =STDEV(C1023:C1273)*(260^0.5) -> 0.14066149 | D6: =B6/C6 -> 0.96498996
A7: Average Relative Volatility | B7: =AVERAGE(B2:B6) -> 0.16215212 | C7: =AVERAGE(C2:C6) -> 0.11432729 | D7: =B7/C7 -> 1.418315
A9: Index: | B9: iShares JP Morgan USD Emerging Markets Bond ETF | G9: Index: | H9: S&P Emerging BMI Index
A10: Source: | B10: Yahoo! | G10: Source: | H10: S&P
B11: https://finance.yahoo.com/quote/EMB/ | H11: https://www.spglobal.com/spdji/en/indices/equity/sp-emerging-bmi/#overview
A12: Period | B12: Five years | C12: (June 30, 2018 - June 30, 2023) | G12: Period | H12: Five years | I12: (June 30, 2018 - June 30, 2023)
A13: Interval | B13: Daily | G13: Interval | H13: Daily
A14: Date | B14: Closing Price | C14: Return | G14: Effective date | H14: S&P Emerging BMI (USD) | I14: Return
A15: 41818 | B15: 84.33 | G15: 41818 | H15: 278.66
A16: 41821 | B16: 84.32 | C16: =B16/B15-1 -> -0.00011858176 | G16: 41821 | H16: 276.97 | I16: =H16/H15-1 -> -0.0060647384
A17: 41822 | B17: 84.59 | C17: =B17/B16-1 -> 0.0032020873 | G17: 41822 | H17: 276.34 | I17: =H17/H16-1 -> -0.0022746146
A18: 41824 | B18: 85.13 | C18: =B18/B17-1 -> 0.0063837333 | G18: 41823 | H18: 275.95 | I18: =H18/H17-1 -> -0.0014113049
A19: 41825 | B19: 85.86 | C19: =B19/B18-1 -> 0.0085751204 | G19: 41824 | H19: 275.42 | I19: =H19/H18-1 -> -0.0019206378
A20: 41828 | B20: 86.1 | C20: =B20/B19-1 -> 0.0027952481 | G20: 41825 | H20: 276.74 | I20: =H20/H19-1 -> 0.0047926803
A21: 41829 | B21: 86.25 | C21: =B21/B20-1 -> 0.0017421603 | G21: 41828 | H21: 280.78 | I21: =H21/H20-1 -> 0.01459854
A22: 41830 | B22: 85.9 | C22: =B22/B21-1 -> -0.004057971 | G22: 41829 | H22: 280.99 | I22: =H22/H21-1 -> 0.00074791652
A23: 41831 | B23: 86.06 | C23: =B23/B22-1 -> 0.001862631 | G23: 41830 | H23: 278.19 | I23: =H23/H22-1 -> -0.0099647674
A24: 41832 | B24: 86.51 | C24: =B24/B23-1 -> 0.0052289101 | G24: 41831 | H24: 280.21 | I24: =H24/H23-1 -> 0.0072612243
A25: 41835 | B25: 86.28 | C25: =B25/B24-1 -> -0.0026586522 | G25: 41832 | H25: 280.97 | I25: =H25/H24-1 -> 0.0027122515
A26: 41836 | B26: 86.28 | C26: =B26/B25-1 -> 0 | G26: 41835 | H26: 279.62 | I26: =H26/H25-1 -> -0.0048047834
A27: 41837 | B27: 86.2 | C27: =B27/B26-1 -> -0.00092721372 | G27: 41836 | H27: 279.92 | I27: =H27/H26-1 -> 0.0010728846
... A1273: 43645 | B1273: 86.19 | C1273: =B1273/B1272-1 -> 0.0071278336 | G1273: 43580 | H1273: 262.14 | I1273: =H1273/H1272-1 -> 0.0035987749
G1274: 43581 | H1274: 263.25 | I1274: =H1274/H1273-1 -> 0.0042343786
G1275: 43582 | H1275: 264.77 | I1275: =H1275/H1274-1 -> 0.0057739791
G1276: 43585 | H1276: 264.69 | I1276: =H1276/H1275-1 -> -0.00030214904
G1277: 43586 | H1277: 263.9 | I1277: =H1277/H1276-1 -> -0.0029846235
G1278: 43587 | H1278: 263.07 | I1278: =H1278/H1277-1 -> -0.0031451307
G1279: 43588 | H1279: 264.75 | I1279: =H1279/H1278-1 -> 0.006386133
G1280: 43589 | H1280: 265.84 | I1280: =H1280/H1279-1 -> 0.0041170916
G1281: 43592 | H1281: 267.91 | I1281: =H1281/H1280-1 -> 0.0077866386
G1282: 43593 | H1282: 265.78 | I1282: =H1282/H1281-1 -> -0.0079504311
G1283: 43594 | H1283: 265.53 | I1283: =H1283/H1282-1 -> -0.00094062759
G1284: 43595 | H1284: 265.05 | I1284: =H1284/H1283-1 -> -0.0018077053
G1285: 43596 | H1285: 264.03 | I1285: =H1285/H1284-1 -> -0.0038483305
... G1320: 43645 | H1320: 268.13 | I1320: =H1320/H1319-1 -> 0.0033303398

Sheet Regional Simple Averages
B3: Values
A4: Row Labels | B4: Average of Adj. Default Spread | C4: Average of Country Risk Premium | D4: Average of Equity Risk Premium | E4: Average of Corporate Tax Rate
A5: Africa | B5: 0.067968937 | C5: 0.096401362 | D5: 0.14640136 | E5: 0.26381
A6: Asia | B6: 0.041403008 | C6: 0.058722508 | D6: 0.10872251 | E6: 0.23766522
A7: Australia & New Zealand | B7: 0.019613678 | C7: 0.027818373 | D7: 0.077818373 | E7: 0.2881
A8: Caribbean | B8: 0.041768871 | C8: 0.059241416 | D8: 0.10924142 | E8: 0.17372857
A9: Central and South America | B9: 0.061619543 | C9: 0.087395923 | D9: 0.13739592 | E9: 0.28298947
A10: Eastern Europe & Russia | B10: 0.0437484 | C10: 0.062049012 | D10: 0.11204901 | E10: 0.16111111
A11: Middle East | B11: 0.036431205 | C11: 0.051670925 | D11: 0.10167092 | E11: 0.11538462
A12: North America | B12: 0 | C12: 0 | D12: 0.05 | E12: 0.25
A13: Western Europe | B13: 0.010977083 | C13: 0.015568961 | D13: 0.065568961 | E13: 0.1957
A14: Grand Total | B14: 0.04296771 | C14: 0.060941748 | D14: 0.11094175 | E14: 0.21332548

Sheet Regional Weighted Averages
A1: Country | B1: GDP (in billions) | C1: Moody's rating | D1: Adj. Default Spread | E1: Equity Risk Premium | F1: Country Risk Premium | G1: Corporate Tax Rate | H1: Region | I1: GDP Weight | J1: Weight*Default Spread | K1: Weight*ERP | L1: Weight*CRP | M1: Weight * Tax Rate
A2: ='Sovereign Ratings (Moody''s,S&P)'!A5 -> Angola | B2: ='Country GDP'!B5 -> 106713.62 | C2: ='Sovereign Ratings (Moody''s,S&P)'!C5 -> B3 | D2: ='ERPs by country'!D11 -> 0.069527972 | E2: ='ERPs by country'!E11 -> 0.14861257 | F2: ='ERPs by country'!F11 -> 0.098612566 | G2: ='Country Tax Rates'!B5 -> 0.25 | H2: =VLOOKUP(A2,'Regional lookup table'!$A$2:$B$161,2) -> Africa | I2: =B2/$B$32 -> 0.042541156 | J2: =I2*D2 -> 0.0029578003 | K2: =I2*E2 -> 0.0063221503 | L2: =I2*F2 -> 0.0041950926 | M2: =I2*G2 -> 0.010635289
A3: ='Sovereign Ratings (Moody''s,S&P)'!A19 -> Benin | B3: ='Country GDP'!B19 -> 17401.746 | C3: ='Sovereign Ratings (Moody''s,S&P)'!C19 -> B1 | D3: ='ERPs by country'!D25 -> 0.048154093 | E3: ='ERPs by country'!E25 -> 0.11829767 | F3: ='ERPs by country'!F25 -> 0.068297673 | G3: ='Country Tax Rates'!B19 -> 0.3 | H3: =VLOOKUP(A3,'Regional lookup table'!$A$2:$B$161,2) -> Africa | I3: =B3/$B$32 -> 0.0069371689 | J3: =I3*D3 -> 0.00033405308 | K3: =I3*E3 -> 0.00082065094 | L3: =I3*F3 -> 0.00047379249 | M3: =I3*G3 -> 0.0020811507
A4: ='Sovereign Ratings (Moody''s,S&P)'!A23 -> Botswana | B4: ='Country GDP'!B23 -> 20352.322 | C4: ='Sovereign Ratings (Moody''s,S&P)'!C23 -> A3 | D4: ='ERPs by country'!D29 -> 0.012824328 | E4: ='ERPs by country'!E29 -> 0.068188936 | F4: ='ERPs by country'!F29 -> 0.018188936 | G4: ='Country Tax Rates'!B23 -> 0.22 | H4: =VLOOKUP(A4,'Regional lookup table'!$A$2:$B$161,2) -> Africa | I4: =B4/$B$32 -> 0.0081134097 | J4: =I4*D4 -> 0.00010404902 | K4: =I4*E4 -> 0.00055324478 | L4: =I4*F4 -> 0.00014757429 | M4: =I4*G4 -> 0.0017849501
A5: ='Sovereign Ratings (Moody''s,S&P)'!A26 -> Burkina Faso | B5: ='Country GDP'!B26 -> 18884.62 | C5: ='Sovereign Ratings (Moody''s,S&P)'!C26 -> Caa1 | D5: ='ERPs by country'!D32 -> 0.080214912 | E5: ='ERPs by country'!E32 -> 0.16377001 | F5: ='ERPs by country'!F32 -> 0.11377001 | G5: ='Country Tax Rates'!B26 -> 0.28 | H5: =VLOOKUP(A5,'Regional lookup table'!$A$2:$B$161,2) -> Africa | I5: =B5/$B$32 -> 0.0075283132 | J5: =I5*D5 -> 0.00060388298 | K5: =I5*E5 -> 0.001232912 | L5: =I5*F5 -> 0.00085649629 | M5: =I5*G5 -> 0.0021079277
A6: ='Sovereign Ratings (Moody''s,S&P)'!A28 -> Cameroon | B6: ='Country GDP'!B28 -> 44341.647 | C6: ='Sovereign Ratings (Moody''s,S&P)'!C28 -> B2 | D6: ='ERPs by country'!D34 -> 0.058841033 | E6: ='ERPs by country'!E34 -> 0.13345512 | F6: ='ERPs by country'!F34 -> 0.083455119 | G6: ='Country Tax Rates'!B28 -> 0.33 | H6: =VLOOKUP(A6,'Regional lookup table'!$A$2:$B$161,2) -> Africa | I6: =B6/$B$32 -> 0.017676703 | J6: =I6*D6 -> 0.0010401154 | K6: =I6*E6 -> 0.0023590464 | L6: =I6*F6 -> 0.0014752113 | M6: =I6*G6 -> 0.0058333118
A7: ='Sovereign Ratings (Moody''s,S&P)'!A30 -> Cape Verde | B7: ='Country GDP'!B30 -> 1936 | C7: ='Sovereign Ratings (Moody''s,S&P)'!C30 -> B3 | D7: ='ERPs by country'!D36 -> 0.069527972 | E7: ='ERPs by country'!E36 -> 0.14861257 | F7: ='ERPs by country'!F36 -> 0.098612566 | G7: ='Country Tax Rates'!B30 -> 0 | H7: =VLOOKUP(A7,'Regional lookup table'!$A$2:$B$161,2) -> Africa | I7: =B7/$B$32 -> 0.00077178226 | J7: =I7*D7 -> 5.3660456e-05 | K7: =I7*E7 -> 0.00011469654 | L7: =I7*F7 -> 7.6107429e-05 | M7: =I7*G7 -> 0
A8: ='Sovereign Ratings (Moody''s,S&P)'!A35 -> Congo (Democratic Republic of) | B8: ='Country GDP'!B35 -> 58065.954 | C8: ='Sovereign Ratings (Moody''s,S&P)'!C35 -> B3 | D8: ='ERPs by country'!D41 -> 0.069527972 | E8: ='ERPs by country'!E41 -> 0.14861257 | F8: ='ERPs by country'!F41 -> 0.098612566 | G8: ='Country Tax Rates'!B35 -> 0.3 | H8: =VLOOKUP(A8,'Regional lookup table'!$A$2:$B$161,2) -> Africa | I8: =B8/$B$32 -> 0.023147868 | J8: =I8*D8 -> 0.0016094243 | K8: =I8*E8 -> 0.0034400641 | L8: =I8*F8 -> 0.0022826707 | M8: =I8*G8 -> 0.0069443605
A9: ='Sovereign Ratings (Moody''s,S&P)'!A36 -> Congo (Republic of) | B9: ='Country GDP'!B36 -> 14616 | C9: ='Sovereign Ratings (Moody''s,S&P)'!C36 -> Caa2 | D9: ='ERPs by country'!D42 -> 0.096308186 | E9: ='ERPs by country'!E42 -> 0.18659535 | F9: ='ERPs by country'!F42 -> 0.13659535 | G9: ='Country Tax Rates'!B36 -> 0.28 | H9: =VLOOKUP(A9,'Regional lookup table'!$A$2:$B$161,2) -> Africa | I9: =B9/$B$32 -> 0.0058266371 | J9: =I9*D9 -> 0.00056115285 | K9: =I9*E9 -> 0.0010872234 | L9: =I9*F9 -> 0.00079589151 | M9: =I9*G9 -> 0.0016314584
A10: ='Sovereign Ratings (Moody''s,S&P)'!A39 -> Côte d'Ivoire | B10: ='Country GDP'!B39 -> 70018.715 | C10: ='Sovereign Ratings (Moody''s,S&P)'!C39 -> Ba3 | D10: ='ERPs by country'!D45 -> 0.038472983 | E10: ='ERPs by country'!E45 -> 0.10456681 | F10: ='ERPs by country'!F45 -> 0.054566809 | G10: ='Country Tax Rates'!B39 -> 0.25 | H10: =VLOOKUP(A10,'Regional lookup table'!$A$2:$B$161,2) -> Africa | I10: =B10/$B$32 -> 0.027912811 | J10: =I10*D10 -> 0.0010738891 | K10: =I10*E10 -> 0.0029187536 | L10: =I10*F10 -> 0.001523113 | M10: =I10*G10 -> 0.0069782027
A11: ='Sovereign Ratings (Moody''s,S&P)'!A48 -> Egypt | B11: ='Country GDP'!B48 -> 476747.72 | C11: ='Sovereign Ratings (Moody''s,S&P)'!C48 -> B3 | D11: ='ERPs by country'!D54 -> 0.069527972 | E11: ='ERPs by country'!E54 -> 0.14861257 | F11: ='ERPs by country'!F54 -> 0.098612566 | G11: ='Country Tax Rates'!B48 -> 0.225 | H11: =VLOOKUP(A11,'Regional lookup table'!$A$2:$B$161,2) -> Africa | I11: =B11/$B$32 -> 0.19005446 | J11: =I11*D11 -> 0.013214101 | K11: =I11*E11 -> 0.028244481 | L11: =I11*F11 -> 0.018741758 | M11: =I11*G11 -> 0.042762253
A12: ='Sovereign Ratings (Moody''s,S&P)'!A51 -> Ethiopia | B12: ='Country GDP'!B51 -> 126783.47 | C12: ='Sovereign Ratings (Moody''s,S&P)'!C51 -> Caa2 | D12: ='ERPs by country'!D57 -> 0.096308186 | E12: ='ERPs by country'!E57 -> 0.18659535 | F12: ='ERPs by country'!F57 -> 0.13659535 | G12: ='Country Tax Rates'!B51 -> 0.3 | H12: =VLOOKUP(A12,'Regional lookup table'!$A$2:$B$161,2) -> Africa | I12: =B12/$B$32 -> 0.05054196 | J12: =I12*D12 -> 0.0048676045 | K12: =I12*E12 -> 0.0094308945 | L12: =I12*F12 -> 0.0069037965 | M12: =I12*G12 -> 0.015162588
A13: ='Sovereign Ratings (Moody''s,S&P)'!A55 -> Gabon | B13: ='Country GDP'!B55 -> 21071.739 | C13: ='Sovereign Ratings (Moody''s,S&P)'!C55 -> Caa1 | D13: ='ERPs by country'!D61 -> 0.080214912 | E13: ='ERPs by country'!E61 -> 0.16377001 | F13: ='ERPs by country'!F61 -> 0.11377001 | G13: ='Country Tax Rates'!B55 -> 0.3 | H13: =VLOOKUP(A13,'Regional lookup table'!$A$2:$B$161,2) -> Africa | I13: =B13/$B$32 -> 0.0084002038 | J13: =I13*D13 -> 0.00067382161 | K13: =I13*E13 -> 0.0013757015 | L13: =I13*F13 -> 0.00095569129 | M13: =I13*G13 -> 0.0025200611
A14: ='Sovereign Ratings (Moody''s,S&P)'!A58 -> Ghana | B14: ='Country GDP'!B58 -> 72838.799 | C14: ='Sovereign Ratings (Moody''s,S&P)'!C58 -> Ca | D14: ='ERPs by country'!D64 -> 0.12836901 | E14: ='ERPs by country'!E64 -> 0.23206769 | F14: ='ERPs by country'!F64 -> 0.18206769 | G14: ='Country Tax Rates'!B58 -> 0.25 | H14: =VLOOKUP(A14,'Regional lookup table'!$A$2:$B$161,2) -> Africa | I14: =B14/$B$32 -> 0.029037031 | J14: =I14*D14 -> 0.0037274548 | K14: =I14*E14 -> 0.0067385567 | L14: =I14*F14 -> 0.0052867051 | M14: =I14*G14 -> 0.0072592578
A15: ='Sovereign Ratings (Moody''s,S&P)'!A78 -> Kenya | B15: ='Country GDP'!B78 -> 113420.01 | C15: ='Sovereign Ratings (Moody''s,S&P)'!C78 -> B3 | D15: ='ERPs by country'!D84 -> 0.069527972 | E15: ='ERPs by country'!E84 -> 0.14861257 | F15: ='ERPs by country'!F84 -> 0.098612566 | G15: ='Country Tax Rates'!B78 -> 0.3 | H15: =VLOOKUP(A15,'Regional lookup table'!$A$2:$B$161,2) -> Africa | I15: =B15/$B$32 -> 0.045214644 | J15: =I15*D15 -> 0.0031436825 | K15: =I15*E15 -> 0.0067194642 | L15: =I15*F15 -> 0.004458732 | M15: =I15*G15 -> 0.013564393
A16: ='Sovereign Ratings (Moody''s,S&P)'!A92 -> Mali | B16: ='Country GDP'!B92 -> 18827.177 | C16: ='Sovereign Ratings (Moody''s,S&P)'!C92 -> Caa2 | D16: ='ERPs by country'!D98 -> 0.096308186 | E16: ='ERPs by country'!E98 -> 0.18659535 | F16: ='ERPs by country'!F98 -> 0.13659535 | G16: ='Country Tax Rates'!B92 -> 0.2281 | H16: =VLOOKUP(A16,'Regional lookup table'!$A$2:$B$161,2) -> Africa | I16: =B16/$B$32 -> 0.0075054136 | J16: =I16*D16 -> 0.00072283277 | K16: =I16*E16 -> 0.0014004753 | L16: =I16*F16 -> 0.0010252046 | M16: =I16*G16 -> 0.0017119849
A17: ='Sovereign Ratings (Moody''s,S&P)'!A94 -> Mauritius | B17: ='Country GDP'!B94 -> 12898.307 | C17: ='Sovereign Ratings (Moody''s,S&P)'!C94 -> Baa3 | D17: ='ERPs by country'!D100 -> 0.023511267 | E17: ='ERPs by country'!E100 -> 0.083346383 | F17: ='ERPs by country'!F100 -> 0.033346383 | G17: ='Country Tax Rates'!B94 -> 0.15 | H17: =VLOOKUP(A17,'Regional lookup table'!$A$2:$B$161,2) -> Africa | I17: =B17/$B$32 -> 0.0051418825 | J17: =I17*D17 -> 0.00012089217 | K17: =I17*E17 -> 0.00042855731 | L17: =I17*F17 -> 0.00017146319 | M17: =I17*G17 -> 0.00077128238
A18: ='Sovereign Ratings (Moody''s,S&P)'!A100 -> Morocco | B18: ='Country GDP'!B100 -> 134181.59 | C18: ='Sovereign Ratings (Moody''s,S&P)'!C100 -> Ba1 | D18: ='ERPs by country'!D106 -> 0.026780214 | E18: ='ERPs by country'!E106 -> 0.087982779 | F18: ='ERPs by country'!F106 -> 0.037982779 | G18: ='Country Tax Rates'!B100 -> 0.31 | H18: =VLOOKUP(A18,'Regional lookup table'!$A$2:$B$161,2) -> Africa | I18: =B18/$B$32 -> 0.053491203 | J18: =I18*D18 -> 0.0014325058 | K18: =I18*E18 -> 0.0047063047 | L18: =I18*F18 -> 0.0020317445 | M18: =I18*G18 -> 0.016582273
A19: ='Sovereign Ratings (Moody''s,S&P)'!A101 -> Mozambique | B19: ='Country GDP'!B101 -> 17851.491 | C19: ='Sovereign Ratings (Moody''s,S&P)'!C101 -> Caa2 | D19: ='ERPs by country'!D107 -> 0.096308186 | E19: ='ERPs by country'!E107 -> 0.18659535 | F19: ='ERPs by country'!F107 -> 0.13659535 | G19: ='Country Tax Rates'!B101 -> 0.32 | H19: =VLOOKUP(A19,'Regional lookup table'!$A$2:$B$161,2) -> Africa | I19: =B19/$B$32 -> 0.0071164589 | J19: =I19*D19 -> 0.00068537325 | K19: =I19*E19 -> 0.0013278981 | L19: =I19*F19 -> 0.00097207516 | M19: =I19*G19 -> 0.0022772668
A20: ='Sovereign Ratings (Moody''s,S&P)'!A102 -> Namibia | B20: ='Country GDP'!B102 -> 12607.437 | C20: ='Sovereign Ratings (Moody''s,S&P)'!C102 -> B1 | D20: ='ERPs by country'!D108 -> 0.048154093 | E20: ='ERPs by country'!E108 -> 0.11829767 | F20: ='ERPs by country'!F108 -> 0.068297673 | G20: ='Country Tax Rates'!B102 -> 0.32 | H20: =VLOOKUP(A20,'Regional lookup table'!$A$2:$B$161,2) -> Africa | I20: =B20/$B$32 -> 0.0050259278 | J20: =I20*D20 -> 0.00024201899 | K20: =I20*E20 -> 0.00059455556 | L20: =I20*F20 -> 0.00034325917 | M20: =I20*G20 -> 0.0016082969
A21: ='Sovereign Ratings (Moody''s,S&P)'!A106 -> Niger | B21: ='Country GDP'!B106 -> 13969.606 | C21: ='Sovereign Ratings (Moody''s,S&P)'!C106 -> B3 | D21: ='ERPs by country'!D112 -> 0.069527972 | E21: ='ERPs by country'!E112 -> 0.14861257 | F21: ='ERPs by country'!F112 -> 0.098612566 | G21: ='Country Tax Rates'!B106 -> 0.2281 | H21: =VLOOKUP(A21,'Regional lookup table'!$A$2:$B$161,2) -> Africa | I21: =B21/$B$32 -> 0.0055689534 | J21: =I21*D21 -> 0.00038719804 | K21: =I21*E21 -> 0.00082761645 | L21: =I21*F21 -> 0.00054916879 | M21: =I21*G21 -> 0.0012702783
A22: ='Sovereign Ratings (Moody''s,S&P)'!A107 -> Nigeria | B22: ='Country GDP'!B107 -> 477386.12 | C22: ='Sovereign Ratings (Moody''s,S&P)'!C107 -> Caa1 | D22: ='ERPs by country'!D113 -> 0.080214912 | E22: ='ERPs by country'!E113 -> 0.16377001 | F22: ='ERPs by country'!F113 -> 0.11377001 | G22: ='Country Tax Rates'!B107 -> 0.3 | H22: =VLOOKUP(A22,'Regional lookup table'!$A$2:$B$161,2) -> Africa | I22: =B22/$B$32 -> 0.19030896 | J22: =I22*D22 -> 0.015265616 | K22: =I22*E22 -> 0.0311669 | L22: =I22*F22 -> 0.021651452 | M22: =I22*G22 -> 0.057092687
A23: ='Sovereign Ratings (Moody''s,S&P)'!A122 -> Rwanda | B23: ='Country GDP'!B122 -> 13312.797 | C23: ='Sovereign Ratings (Moody''s,S&P)'!C122 -> B2 | D23: ='ERPs by country'!D128 -> 0.058841033 | E23: ='ERPs by country'!E128 -> 0.13345512 | F23: ='ERPs by country'!F128 -> 0.083455119 | G23: ='Country Tax Rates'!B122 -> 0.3 | H23: =VLOOKUP(A23,'Regional lookup table'!$A$2:$B$161,2) -> Africa | I23: =B23/$B$32 -> 0.005307118 | J23: =I23*D23 -> 0.0003122763 | K23: =I23*E23 -> 0.00070826206 | L23: =I23*F23 -> 0.00044290616 | M23: =I23*G23 -> 0.0015921354
A24: ='Sovereign Ratings (Moody''s,S&P)'!A124 -> Senegal | B24: ='Country GDP'!B124 -> 27684.43 | C24: ='Sovereign Ratings (Moody''s,S&P)'!C124 -> Ba3 | D24: ='ERPs by country'!D130 -> 0.038472983 | E24: ='ERPs by country'!E130 -> 0.10456681 | F24: ='ERPs by country'!F130 -> 0.054566809 | G24: ='Country Tax Rates'!B124 -> 0.3 | H24: =VLOOKUP(A24,'Regional lookup table'!$A$2:$B$161,2) -> Africa | I24: =B24/$B$32 -> 0.011036339 | J24: =I24*D24 -> 0.00042460088 | K24: =I24*E24 -> 0.0011540347 | L24: =I24*F24 -> 0.0006022178 | M24: =I24*G24 -> 0.0033109017
A25: ='Sovereign Ratings (Moody''s,S&P)'!A131 -> South Africa | B25: ='Country GDP'!B131 -> 405869.72 | C25: ='Sovereign Ratings (Moody''s,S&P)'!C131 -> Ba2 | D25: ='ERPs by country'!D137 -> 0.032186548 | E25: ='ERPs by country'!E137 -> 0.095650664 | F25: ='ERPs by country'!F137 -> 0.045650664 | G25: ='Country Tax Rates'!B131 -> 0.27 | H25: =VLOOKUP(A25,'Regional lookup table'!$A$2:$B$161,2) -> Africa | I25: =B25/$B$32 -> 0.1617991 | J25: =I25*D25 -> 0.0052077543 | K25: =I25*E25 -> 0.015476191 | L25: =I25*F25 -> 0.0073862361 | M25: =I25*G25 -> 0.043685756
A26: ='Sovereign Ratings (Moody''s,S&P)'!A137 -> Swaziland | B26: ='Country GDP'!B137 -> 4854.1676 | C26: ='Sovereign Ratings (Moody''s,S&P)'!C137 -> B3 | D26: ='ERPs by country'!D143 -> 0.069527972 | E26: ='ERPs by country'!E143 -> 0.14861257 | F26: ='ERPs by country'!F143 -> 0.098612566 | G26: ='Country Tax Rates'!B137 -> 0.275 | H26: =VLOOKUP(A26,'Regional lookup table'!$A$2:$B$161,2) -> Africa | I26: =B26/$B$32 -> 0.0019351035 | J26: =I26*D26 -> 0.00013454383 | K26: =I26*E26 -> 0.0002875807 | L26: =I26*F26 -> 0.00019082553 | M26: =I26*G26 -> 0.00053215347
A27: ='Sovereign Ratings (Moody''s,S&P)'!A142 -> Tanzania | B27: ='Country GDP'!B142 -> 75709.289 | C27: ='Sovereign Ratings (Moody''s,S&P)'!C142 -> B2 | D27: ='ERPs by country'!D148 -> 0.058841033 | E27: ='ERPs by country'!E148 -> 0.13345512 | F27: ='ERPs by country'!F148 -> 0.083455119 | G27: ='Country Tax Rates'!B142 -> 0.3 | H27: =VLOOKUP(A27,'Regional lookup table'!$A$2:$B$161,2) -> Africa | I27: =B27/$B$32 -> 0.030181346 | J27: =I27*D27 -> 0.0017759016 | K27: =I27*E27 -> 0.0040278552 | L27: =I27*F27 -> 0.0025187878 | M27: =I27*G27 -> 0.0090544038
A28: ='Sovereign Ratings (Moody''s,S&P)'!A144 -> Togo | B28: ='Country GDP'!B144 -> 8126.4395 | C28: ='Sovereign Ratings (Moody''s,S&P)'!C144 -> B3 | D28: ='ERPs by country'!D150 -> 0.069527972 | E28: ='ERPs by country'!E150 -> 0.14861257 | F28: ='ERPs by country'!F150 -> 0.098612566 | G28: ='Country Tax Rates'!B144 -> 0.2281 | H28: =VLOOKUP(A28,'Regional lookup table'!$A$2:$B$161,2) -> Africa | I28: =B28/$B$32 -> 0.0032395877 | J28: =I28*D28 -> 0.00022524197 | K28: =I28*E28 -> 0.00048144344 | L28: =I28*F28 -> 0.00031946406 | M28: =I28*G28 -> 0.00073894996
A29: ='Sovereign Ratings (Moody''s,S&P)'!A146 -> Tunisia | B29: ='Country GDP'!B146 -> 46664.949 | C29: ='Sovereign Ratings (Moody''s,S&P)'!C146 -> Caa2 | D29: ='ERPs by country'!D152 -> 0.096308186 | E29: ='ERPs by country'!E152 -> 0.18659535 | F29: ='ERPs by country'!F152 -> 0.13659535 | G29: ='Country Tax Rates'!B146 -> 0.15 | H29: =VLOOKUP(A29,'Regional lookup table'!$A$2:$B$161,2) -> Africa | I29: =B29/$B$32 -> 0.018602882 | J29: =I29*D29 -> 0.0017916098 | K29: =I29*E29 -> 0.0034712112 | L29: =I29*F29 -> 0.0025410671 | M29: =I29*G29 -> 0.0027904323
A30: ='Sovereign Ratings (Moody''s,S&P)'!A149 -> Uganda | B30: ='Country GDP'!B149 -> 45559.202 | C30: ='Sovereign Ratings (Moody''s,S&P)'!C149 -> B2 | D30: ='ERPs by country'!D155 -> 0.058841033 | E30: ='ERPs by country'!E155 -> 0.13345512 | F30: ='ERPs by country'!F155 -> 0.083455119 | G30: ='Country Tax Rates'!B149 -> 0.3 | H30: =VLOOKUP(A30,'Regional lookup table'!$A$2:$B$161,2) -> Africa | I30: =B30/$B$32 -> 0.018162078 | J30: =I30*D30 -> 0.0010686755 | K30: =I30*E30 -> 0.0024238223 | L30: =I30*F30 -> 0.0015157184 | M30: =I30*G30 -> 0.0054486235
A31: ='Sovereign Ratings (Moody''s,S&P)'!A158 -> Zambia | B31: ='Country GDP'!B158 -> 29784.454 | C31: ='Sovereign Ratings (Moody''s,S&P)'!C158 -> Ca | D31: ='ERPs by country'!D164 -> 0.12836901 | E31: ='ERPs by country'!E164 -> 0.23206769 | F31: ='ERPs by country'!F164 -> 0.18206769 | G31: ='Country Tax Rates'!B158 -> 0.35 | H31: =VLOOKUP(A31,'Regional lookup table'!$A$2:$B$161,2) -> Africa | I31: =B31/$B$32 -> 0.011873509 | J31: =I31*D31 -> 0.0015241905 | K31: =I31*E31 -> 0.0027554577 | L31: =I31*F31 -> 0.0021617823 | M31: =I31*G31 -> 0.0041557281
A32: Africa | B32: =SUM(B2:B31) -> 2508479.5 | D32: =SUM(J2:J31) -> 0.065285924 | E32: =SUM(K2:K31) -> 0.14259601 | F32: =SUM(L2:L31) -> 0.092596006 | G32: =SUM(M2:M31) -> 0.27188836 | I32: =SUM(I2:I31) -> 1
A33: Bangladesh | B33: 460201 | C33: B1 | D33: 0.048154093 | E33: 0.11829767 | F33: 0.068297673 | G33: 0.325 | H33: Asia | I33: =B33/$B$56 -> 0.01398542 | J33: =I33*D33 -> 0.00067345522 | K33: =I33*E33 -> 0.0016544426 | L33: =I33*F33 -> 0.00095517164 | M33: =I33*G33 -> 0.0045452615
A34: Cambodia | B34: 29956.77 | C34: B2 | D34: 0.058841033 | E34: 0.13345512 | F34: 0.083455119 | G34: 0.2 | H34: Asia | I34: =B34/$B$56 -> 0.00091038048 | J34: =I34*D34 -> 5.3567727e-05 | K34: =I34*E34 -> 0.00012149494 | L34: =I34*F34 -> 7.5975911e-05 | M34: =I34*G34 -> 0.0001820761
A35: China | B35: 17963171 | C35: A1 | D35: 0.0075437221 | E35: 0.060699374 | F35: 0.010699374 | G35: 0.25 | H35: Asia | I35: =B35/$B$56 -> 0.5458973 | J35: =I35*D35 -> 0.0041180976 | K35: =I35*E35 -> 0.033135625 | L35: =I35*F35 -> 0.0058407596 | M35: =I35*G35 -> 0.13647433
A36: Fiji | B36: 4943.2482 | C36: B1 | D36: 0.048154093 | E36: 0.11829767 | F36: 0.068297673 | G36: 0.2 | H36: Asia | I36: =B36/$B$56 -> 0.00015022436 | J36: =I36*D36 -> 7.233918e-06 | K36: =I36*E36 -> 1.7771193e-05 | L36: =I36*F36 -> 1.0259974e-05 | M36: =I36*G36 -> 3.0044873e-05
A37: Hong Kong | B37: 359838.6 | C37: Aa3 | D37: 0.0064121638 | E37: 0.059094468 | F37: 0.0090944682 | G37: 0.165 | H37: Asia | I37: =B37/$B$56 -> 0.010935426 | J37: =I37*D37 -> 7.0119743e-05 | K37: =I37*E37 -> 0.00064622318 | L37: =I37*F37 -> 9.9451883e-05 | M37: =I37*G37 -> 0.0018043453
A38: India | B38: 3385089.9 | C38: Baa3 | D38: 0.023511267 | E38: 0.083346383 | F38: 0.033346383 | G38: 0.3 | H38: Asia | I38: =B38/$B$56 -> 0.10287223 | J38: =I38*D38 -> 0.0024186565 | K38: =I38*E38 -> 0.0085740285 | L38: =I38*F38 -> 0.0034304169 | M38: =I38*G38 -> 0.03086167
A39: Indonesia | B39: 1319100.2 | C39: Baa2 | D39: 0.02036805 | E39: 0.078888311 | F39: 0.028888311 | G39: 0.22 | H39: Asia | I39: =B39/$B$56 -> 0.040087203 | J39: =I39*D39 -> 0.00081649814 | K39: =I39*E39 -> 0.0031624117 | L39: =I39*F39 -> 0.0011580516 | M39: =I39*G39 -> 0.0088191846
A40: Japan | B40: 4231141.2 | C40: A1 | D40: 0.0075437221 | E40: 0.060699374 | F40: 0.010699374 | G40: 0.232 | H40: Asia | I40: =B40/$B$56 -> 0.12858357 | J40: =I40*D40 -> 0.00096999872 | K40: =I40*E40 -> 0.0078049422 | L40: =I40*F40 -> 0.0013757637 | M40: =I40*G40 -> 0.029831388
...

Sheet Regional breakdown
A1: Country | B1: ='Country GDP'!B1 -> GDP (in millions) in 2022 | C1: ='Sovereign Ratings (Moody''s,S&P)'!C1 -> Moody's rating | D1: Sovereign CDS | E1: Adj. Default Spread | F1: Equity Risk Premium | G1: Country Risk Premium | H1: Corporate Tax Rate | I1: Region
A2: ='Sovereign Ratings (Moody''s,S&P)'!A2 -> Abu Dhabi | B2: ='Country GDP'!B2 -> 299500 | C2: ='Sovereign Ratings (Moody''s,S&P)'!C2 -> Aa2 | D2: ='10-year CDS Spreads'!C2 -> 0.007 | E2: ='ERPs by country'!D8 -> 0.0052806055 | F2: ='ERPs by country'!E8 -> 0.057489562 | G2: ='ERPs by country'!F8 -> 0.007489562 | H2: ='Country Tax Rates'!B2 -> 0.15 | I2: =VLOOKUP(A2,'Regional lookup table'!$A$2:$B$161,2) -> Middle East
A3: ='Sovereign Ratings (Moody''s,S&P)'!A3 -> Albania | B3: ='Country GDP'!B3 -> 18882.096 | C3: ='Sovereign Ratings (Moody''s,S&P)'!C3 -> B1 | D3: ='10-year CDS Spreads'!C3 -> NA | E3: ='ERPs by country'!D9 -> 0.048154093 | F3: ='ERPs by country'!E9 -> 0.11829767 | G3: ='ERPs by country'!F9 -> 0.068297673 | H3: ='Country Tax Rates'!B3 -> 0.15 | I3: =VLOOKUP(A3,'Regional lookup table'!$A$2:$B$161,2) -> Eastern Europe & Russia
A4: ='Sovereign Ratings (Moody''s,S&P)'!A4 -> Andorra (Principality of) | B4: ='Country GDP'!B4 -> 3330 | C4: ='Sovereign Ratings (Moody''s,S&P)'!C4 -> Baa2 | D4: ='10-year CDS Spreads'!C4 -> NA | E4: ='ERPs by country'!D10 -> 0.02036805 | F4: ='ERPs by country'!E10 -> 0.078888311 | G4: ='ERPs by country'!F10 -> 0.028888311 | H4: ='Country Tax Rates'!B4 -> 0.1898 | I4: =VLOOKUP(A4,'Regional lookup table'!$A$2:$B$161,2) -> Western Europe
A5: ='Sovereign Ratings (Moody''s,S&P)'!A5 -> Angola | B5: ='Country GDP'!B5 -> 106713.62 | C5: ='Sovereign Ratings (Moody''s,S&P)'!C5 -> B3 | D5: ='10-year CDS Spreads'!C5 -> 0.1047 | E5: ='ERPs by country'!D11 -> 0.069527972 | F5: ='ERPs by country'!E11 -> 0.14861257 | G5: ='ERPs by country'!F11 -> 0.098612566 | H5: ='Country Tax Rates'!B5 -> 0.25 | I5: =VLOOKUP(A5,'Regional lookup table'!$A$2:$B$161,2) -> Africa
A6: ='Sovereign Ratings (Moody''s,S&P)'!A6 -> Argentina | B6: ='Country GDP'!B6 -> 632770.28 | C6: ='Sovereign Ratings (Moody''s,S&P)'!C6 -> Ca | D6: ='10-year CDS Spreads'!C6 -> NA | E6: ='ERPs by country'!D12 -> 0.12836901 | F6: ='ERPs by country'!E12 -> 0.23206769 | G6: ='ERPs by country'!F12 -> 0.18206769 | H6: ='Country Tax Rates'!B6 -> 0.35 | I6: =VLOOKUP(A6,'Regional lookup table'!$A$2:$B$161,2) -> Central and South America
A7: ='Sovereign Ratings (Moody''s,S&P)'!A7 -> Armenia | B7: ='Country GDP'!B7 -> 19502.784 | C7: ='Sovereign Ratings (Moody''s,S&P)'!C7 -> Ba3 | D7: ='10-year CDS Spreads'!C7 -> NA | E7: ='ERPs by country'!D13 -> 0.038472983 | F7: ='ERPs by country'!E13 -> 0.10456681 | G7: ='ERPs by country'!F13 -> 0.054566809 | H7: ='Country Tax Rates'!B7 -> 0.18 | I7: =VLOOKUP(A7,'Regional lookup table'!$A$2:$B$161,2) -> Eastern Europe & Russia
A8: ='Sovereign Ratings (Moody''s,S&P)'!A8 -> Aruba | B8: ='Country GDP'!B8 -> 3126.0194 | C8: ='Sovereign Ratings (Moody''s,S&P)'!C8 -> Baa2 | D8: ='10-year CDS Spreads'!C8 -> NA | E8: ='ERPs by country'!D14 -> 0.02036805 | F8: ='ERPs by country'!E14 -> 0.078888311 | G8: ='ERPs by country'!F14 -> 0.028888311 | H8: ='Country Tax Rates'!B8 -> 0.25 | I8: =VLOOKUP(A8,'Regional lookup table'!$A$2:$B$161,2) -> Caribbean
A9: ='Sovereign Ratings (Moody''s,S&P)'!A9 -> Australia | B9: ='Country GDP'!B9 -> 1675418.7 | C9: ='Sovereign Ratings (Moody''s,S&P)'!C9 -> Aaa | D9: ='10-year CDS Spreads'!C9 -> 0.0033 | E9: ='ERPs by country'!D15 -> 0 | F9: ='ERPs by country'!E15 -> 0.05 | G9: ='ERPs by country'!F15 -> 0 | H9: ='Country Tax Rates'!B9 -> 0.3 | I9: =VLOOKUP(A9,'Regional lookup table'!$A$2:$B$161,2) -> Australia & New Zealand
A10: ='Sovereign Ratings (Moody''s,S&P)'!A10 -> Austria | B10: ='Country GDP'!B10 -> 471400.07 | C10: ='Sovereign Ratings (Moody''s,S&P)'!C10 -> Aa1 | D10: ='10-year CDS Spreads'!C10 -> 0.002 | E10: ='ERPs by country'!D16 -> 0.0042747759 | F10: ='ERPs by country'!E16 -> 0.056062979 | G10: ='ERPs by country'!F16 -> 0.0060629788 | H10: ='Country Tax Rates'!B10 -> 0.24 | I10: =VLOOKUP(A10,'Regional lookup table'!$A$2:$B$161,2) -> Western Europe
A11: ='Sovereign Ratings (Moody''s,S&P)'!A11 -> Azerbaijan | B11: ='Country GDP'!B11 -> 78721.059 | C11: ='Sovereign Ratings (Moody''s,S&P)'!C11 -> Ba1 | D11: ='10-year CDS Spreads'!C11 -> NA | E11: ='ERPs by country'!D17 -> 0.026780214 | F11: ='ERPs by country'!E17 -> 0.087982779 | G11: ='ERPs by country'!F17 -> 0.037982779 | H11: ='Country Tax Rates'!B11 -> 0.2 | I11: =VLOOKUP(A11,'Regional lookup table'!$A$2:$B$161,2) -> Eastern Europe & Russia
A12: ='Sovereign Ratings (Moody''s,S&P)'!A12 -> Bahamas | B12: ='Country GDP'!B12 -> 11210 | C12: ='Sovereign Ratings (Moody''s,S&P)'!C12 -> B1 | D12: ='10-year CDS Spreads'!C12 -> NA | E12: ='ERPs by country'!D18 -> 0.048154093 | F12: ='ERPs by country'!E18 -> 0.11829767 | G12: ='ERPs by country'!F18 -> 0.068297673 | H12: ='Country Tax Rates'!B12 -> 0 | I12: =VLOOKUP(A12,'Regional lookup table'!$A$2:$B$161,2) -> Caribbean
A13: ='Sovereign Ratings (Moody''s,S&P)'!A13 -> Bahrain | B13: ='Country GDP'!B13 -> 44390.82 | C13: ='Sovereign Ratings (Moody''s,S&P)'!C13 -> B2 | D13: ='10-year CDS Spreads'!C13 -> 0.0316 | E13: ='ERPs by country'!D19 -> 0.058841033 | F13: ='ERPs by country'!E19 -> 0.13345512 | G13: ='ERPs by country'!F19 -> 0.083455119 | H13: ='Country Tax Rates'!B13 -> 0 | I13: =VLOOKUP(A13,'Regional lookup table'!$A$2:$B$161,2) -> Middle East
... A158: ='Sovereign Ratings (Moody''s,S&P)'!A158 -> Zambia | B158: ='Country GDP'!B158 -> 29784.454 | C158: ='Sovereign Ratings (Moody''s,S&P)'!C158 -> Ca | D158: ='10-year CDS Spreads'!C158 -> NA | E158: ='ERPs by country'!D164 -> 0.12836901 | F158: ='ERPs by country'!E164 -> 0.23206769 | G158: ='ERPs by country'!F164 -> 0.18206769 | H158: ='Country Tax Rates'!B158 -> 0.35 | I158: =VLOOKUP(A158,'Regional lookup table'!$A$2:$B$161,2) -> Africa

Sheet Sovereign Ratings (Moody's,S&P)
A1: Country | B1: S&P Rating | C1: Moody's rating
A2: ='Ratings worksheet'!A2 -> Abu Dhabi | B2: ='Ratings worksheet'!B2 -> AA+ | C2: =IF('Ratings worksheet'!C2="NA",VLOOKUP('Ratings worksheet'!B2,'Sovereign Ratings (Moody''s,S&P)'!$F$9:$G$33,2,FALSE),'Ratings worksheet'!C2) -> Aa2 | F2: GOVERNMENT BOND RATINGS
A3: ='Ratings worksheet'!A3 -> Albania | B3: ='Ratings worksheet'!B3 -> B+ | C3: =IF('Ratings worksheet'!C3="NA",VLOOKUP('Ratings worksheet'!B3,'Sovereign Ratings (Moody''s,S&P)'!$F$9:$G$33,2,FALSE),'Ratings worksheet'!C3) -> B1 | F3: In local currency
A4: ='Ratings worksheet'!A4 -> Andorra (Principality of) | B4: ='Ratings worksheet'!B4 -> BBB+ | C4: =IF('Ratings worksheet'!C4="NA",VLOOKUP('Ratings worksheet'!B4,'Sovereign Ratings (Moody''s,S&P)'!$F$9:$G$33,2,FALSE),'Ratings worksheet'!C4) -> Baa2 | F4: S&P: These are the S&P sovereign local currency ratings
A5: ='Ratings worksheet'!A5 -> Angola | B5: ='Ratings worksheet'!B5 -> B- | C5: =IF('Ratings worksheet'!C5="NA",VLOOKUP('Ratings worksheet'!B5,'Sovereign Ratings (Moody''s,S&P)'!$F$9:$G$33,2,FALSE),'Ratings worksheet'!C5) -> B3 | F5: Moody's: These are the Moody's local currency rating
A6: ='Ratings worksheet'!A6 -> Argentina | B6: ='Ratings worksheet'!B6 -> CCC- | C6: =IF('Ratings worksheet'!C6="NA",VLOOKUP('Ratings worksheet'!B6,'Sovereign Ratings (Moody''s,S&P)'!$F$9:$G$33,2,FALSE),'Ratings worksheet'!C6) -> Ca | F6: In red: These are countries where S&P has a rating and Moody's does not. The following lookup table is used to estimate the
A7: ='Ratings worksheet'!A7 -> Armenia | B7: ='Ratings worksheet'!B7 -> B+ | C7: =IF('Ratings worksheet'!C7="NA",VLOOKUP('Ratings worksheet'!B7,'Sovereign Ratings (Moody''s,S&P)'!$F$9:$G$33,2,FALSE),'Ratings worksheet'!C7) -> Ba3 | F7: Moody's equivalent rating for these countries.
A8: ='Ratings worksheet'!A8 -> Aruba | B8: ='Ratings worksheet'!B8 -> BBB | C8: =IF('Ratings worksheet'!C8="NA",VLOOKUP('Ratings worksheet'!B8,'Sovereign Ratings (Moody''s,S&P)'!$F$9:$G$33,2,FALSE),'Ratings worksheet'!C8) -> Baa2 | F8: S&P | G8: Moody's
A9: ='Ratings worksheet'!A9 -> Australia | B9: ='Ratings worksheet'!B9 -> AAA | C9: =IF('Ratings worksheet'!C9="NA",VLOOKUP('Ratings worksheet'!B9,'Sovereign Ratings (Moody''s,S&P)'!$F$9:$G$33,2,FALSE),'Ratings worksheet'!C9) -> Aaa | F9: A | G9: A2
A10: ='Ratings worksheet'!A10 -> Austria | B10: ='Ratings worksheet'!B10 -> AA+ | C10: =IF('Ratings worksheet'!C10="NA",VLOOKUP('Ratings worksheet'!B10,'Sovereign Ratings (Moody''s,S&P)'!$F$9:$G$33,2,FALSE),'Ratings worksheet'!C10) -> Aa1 | F10: A- | G10: A3
A11: ='Ratings worksheet'!A11 -> Azerbaijan | B11: ='Ratings worksheet'!B11 -> BB+ | C11: =IF('Ratings worksheet'!C11="NA",VLOOKUP('Ratings worksheet'!B11,'Sovereign Ratings (Moody''s,S&P)'!$F$9:$G$33,2,FALSE),'Ratings worksheet'!C11) -> Ba1 | F11: A+ | G11: A1
A12: ='Ratings worksheet'!A12 -> Bahamas | B12: ='Ratings worksheet'!B12 -> B+ | C12: =IF('Ratings worksheet'!C12="NA",VLOOKUP('Ratings worksheet'!B12,'Sovereign Ratings (Moody''s,S&P)'!$F$9:$G$33,2,FALSE),'Ratings worksheet'!C12) -> B1 | F12: AA | G12: Aa2
A13: ='Ratings worksheet'!A13 -> Bahrain | B13: ='Ratings worksheet'!B13 -> B+ | C13: =IF('Ratings worksheet'!C13="NA",VLOOKUP('Ratings worksheet'!B13,'Sovereign Ratings (Moody''s,S&P)'!$F$9:$G$33,2,FALSE),'Ratings worksheet'!C13) -> B2 | F13: AA- | G13: Aa3
A14: ='Ratings worksheet'!A14 -> Bangladesh | B14: ='Ratings worksheet'!B14 -> BB- | C14: =IF('Ratings worksheet'!C14="NA",VLOOKUP('Ratings worksheet'!B14,'Sovereign Ratings (Moody''s,S&P)'!$F$9:$G$33,2,FALSE),'Ratings worksheet'!C14) -> B1 | F14: AA+ | G14: Aa1
A15: ='Ratings worksheet'!A15 -> Barbados | B15: ='Ratings worksheet'!B15 -> B- | C15: =IF('Ratings worksheet'!C15="NA",VLOOKUP('Ratings worksheet'!B15,'Sovereign Ratings (Moody''s,S&P)'!$F$9:$G$33,2,FALSE),'Ratings worksheet'!C15) -> Caa1 | F15: AAA | G15: Aaa
A16: ='Ratings worksheet'!A16 -> Belarus | B16: ='Ratings worksheet'!B16 -> NA | C16: =IF('Ratings worksheet'!C16="NA",VLOOKUP('Ratings worksheet'!B16,'Sovereign Ratings (Moody''s,S&P)'!$F$9:$G$33,2,FALSE),'Ratings worksheet'!C16) -> C | F16: B | G16: B2
